BEGIN:VCALENDAR
VERSION:2.0
PRODID:spatie/icalendar-generator
DESCRIPTION:Events from Grace Bible Church
X-WR-CALDESC:Events from Grace Bible Church
REFRESH-INTERVAL;VALUE=DURATION:PT1440M
X-PUBLISHED-TTL:PT1440M
BEGIN:VTIMEZONE
TZID:Etc/GMT+0
BEGIN:STANDARD
DTSTART:20250712T173000Z
TZOFFSETFROM:+0000
TZOFFSETTO:+0000
END:STANDARD
END:VTIMEZONE
BEGIN:VTIMEZONE
TZID:UTC
BEGIN:STANDARD
DTSTART:20250729T155115Z
TZOFFSETFROM:+0000
TZOFFSETTO:+0000
END:STANDARD
END:VTIMEZONE
BEGIN:VEVENT
UID:2198-6
DTSTAMP:20260425T155115Z
SUMMARY:Bible Study - Church Downstairs
LOCATION:
ORGANIZER;CN=Joseph:MAILTO:joseph.spear98@outlook.com
RRULE:FREQ=WEEKLY;UNTIL=20340301T000000Z
DTSTART;TZID=Etc/GMT+0:20260408T173000
DTEND;TZID=Etc/GMT+0:20260408T190000
X-ALT-DESC;FMTTYPE=TEXT/HTML:Bible Study - Church Downstairs
CATEGORIES:General
URL;VALUE=URI:https://gbctn.org/mc-events/bible-study-church-downstairs/?mc
 _id=2198
METHOD:PUBLISH
END:VEVENT
END:VCALENDAR