BEGIN:VCALENDAR
VERSION:2.0
PRODID:spatie/icalendar-generator
DESCRIPTION:Events from Grace Bible Church
X-WR-CALDESC:Events from Grace Bible Church
REFRESH-INTERVAL;VALUE=DURATION:PT1440M
X-PUBLISHED-TTL:PT1440M
BEGIN:VTIMEZONE
TZID:Etc/GMT+0
BEGIN:STANDARD
DTSTART:20250804T090000Z
TZOFFSETFROM:+0000
TZOFFSETTO:+0000
END:STANDARD
END:VTIMEZONE
BEGIN:VTIMEZONE
TZID:UTC
BEGIN:STANDARD
DTSTART:20250729T155448Z
TZOFFSETFROM:+0000
TZOFFSETTO:+0000
END:STANDARD
END:VTIMEZONE
BEGIN:VEVENT
UID:115-2
DTSTAMP:20260425T155448Z
SUMMARY:Ladies Bible Study - Bradberry's House
LOCATION:
ORGANIZER;CN=Joseph:MAILTO:joseph.spear98@outlook.com
DTSTART;TZID=Etc/GMT+0:20260501T090000
DTEND;TZID=Etc/GMT+0:20260501T100000
X-ALT-DESC;FMTTYPE=TEXT/HTML:Ladies Bible Study - Bradberry's House
CATEGORIES:General
URL;VALUE=URI:https://gbctn.org/mc-events/ladies-bible-study-bradberrys-hou
 se/
METHOD:PUBLISH
END:VEVENT
END:VCALENDAR