BEGIN:VCALENDAR
VERSION:2.0
PRODID:spatie/icalendar-generator
DESCRIPTION:Events from Grace Bible Church
X-WR-CALDESC:Events from Grace Bible Church
REFRESH-INTERVAL;VALUE=DURATION:PT1440M
X-PUBLISHED-TTL:PT1440M
BEGIN:VTIMEZONE
TZID:Etc/GMT+0
BEGIN:STANDARD
DTSTART:20250730T103000Z
TZOFFSETFROM:+0000
TZOFFSETTO:+0000
END:STANDARD
END:VTIMEZONE
BEGIN:VTIMEZONE
TZID:UTC
BEGIN:STANDARD
DTSTART:20250729T154658Z
TZOFFSETFROM:+0000
TZOFFSETTO:+0000
END:STANDARD
END:VTIMEZONE
BEGIN:VEVENT
UID:3247-7
DTSTAMP:20260425T154658Z
SUMMARY:Worship Service
LOCATION:
ORGANIZER;CN=Joseph:MAILTO:joseph.spear98@outlook.com
DTSTART;TZID=Etc/GMT+0:20260426T103000
DTEND;TZID=Etc/GMT+0:20260426T120000
X-ALT-DESC;FMTTYPE=TEXT/HTML:Worship Service
CATEGORIES:General
URL;VALUE=URI:https://gbctn.org/mc-events/worship-service/
METHOD:PUBLISH
END:VEVENT
END:VCALENDAR