BEGIN:VCALENDAR
VERSION:2.0
PRODID:spatie/icalendar-generator
DESCRIPTION:Events from Grace Bible Church
X-WR-CALDESC:Events from Grace Bible Church
REFRESH-INTERVAL;VALUE=DURATION:PT1440M
X-PUBLISHED-TTL:PT1440M
BEGIN:VTIMEZONE
TZID:Etc/GMT+0
BEGIN:STANDARD
DTSTART:20250804T183000Z
TZOFFSETFROM:+0000
TZOFFSETTO:+0000
END:STANDARD
END:VTIMEZONE
BEGIN:VTIMEZONE
TZID:UTC
BEGIN:STANDARD
DTSTART:20250729T154324Z
TZOFFSETFROM:+0000
TZOFFSETTO:+0000
END:STANDARD
END:VTIMEZONE
BEGIN:VEVENT
UID:637-3
DTSTAMP:20260425T154324Z
SUMMARY:Men's Bible Study - Rotation
LOCATION:
ORGANIZER;CN=Joseph:MAILTO:joseph.spear98@outlook.com
DTSTART;TZID=Etc/GMT+0:20260501T183000
DTEND;TZID=Etc/GMT+0:20260501T200000
X-ALT-DESC;FMTTYPE=TEXT/HTML:Men's Bible Study - Rotation
CATEGORIES:General
URL;VALUE=URI:https://gbctn.org/mc-events/mens-bible-study-rotation/
METHOD:PUBLISH
END:VEVENT
END:VCALENDAR